Workbook

Sheet Nasıl Kullanılır
B2: Veresiye Defteri Şablonu
B3: veresiyeprogrami.com · Ücretsiz Excel şablonu
B5: Nasıl kullanılır?
B6: 1. 'Müşteriler' sayfasına her müşteriyi bir kez yazın: ad, telefon ve isterseniz kısa bir not.
B7: 2. 'Hareketler' sayfasına her veresiye satışı ve her ödemeyi ayrı satır olarak girin.
B8: Müşteri adını açılır listeden seçin; böylece aynı kişi iki farklı yazımla iki müşteri olmaz.
B9: Veresiye satış tutarını 'Borç' sütununa, gelen ödemeyi 'Ödeme' sütununa yazın.
B10: 3. Müşterinin toplam borcu, ödemesi ve güncel bakiyesi 'Müşteriler' sayfasında kendiliğinden hesaplanır.
B11: 4. 'Ekstre' sayfasında müşteri seçin: o müşterinin tüm hareketleri tarih sırasıyla listelenir.
B13: Hücre renkleri
B14: Açık sarı hücreler: siz doldurursunuz.
B15: Beyaz hücreler: formül içerir, elle değiştirmeyin.
... B29: veresiyeprogrami.com adresine git →

Sheet Müşteriler
A1: Müşteri adı | B1: Telefon | C1: Not | D1: Toplam borç | E1: Toplam ödeme | F1: Bakiye | G1: Son hareket
A2: Ahmet Yılmaz (örnek) | B2: 0555 000 00 00 | C2: Köşe apartman, 3. kat | D2: =IF($A2="","",SUMIFS('Hareketler'!$D$2:$D$1001,'Hareketler'!$B$2:$B$1001,$A2)) | E2: =IF($A2="","",SUMIFS('Hareketler'!$E$2:$E$1001,'Hareketler'!$B$2:$B$1001,$A2)) | F2: =IF($A2="","",D2-E2) | G2: =IF($A2="","",IF(COUNTIF('Hareketler'!$B$2:$B$1001,$A2)=0,"",SUMPRODUCT(MAX(('Hareketler'!$B$2:$B$1001=$A2)*'Hareketler'!$A$2:$A$1001))))
D3: =IF($A3="","",SUMIFS('Hareketler'!$D$2:$D$1001,'Hareketler'!$B$2:$B$1001,$A3)) | E3: =IF($A3="","",SUMIFS('Hareketler'!$E$2:$E$1001,'Hareketler'!$B$2:$B$1001,$A3)) | F3: =IF($A3="","",D3-E3) | G3: =IF($A3="","",IF(COUNTIF('Hareketler'!$B$2:$B$1001,$A3)=0,"",SUMPRODUCT(MAX(('Hareketler'!$B$2:$B$1001=$A3)*'Hareketler'!$A$2:$A$1001))))
D4: =IF($A4="","",SUMIFS('Hareketler'!$D$2:$D$1001,'Hareketler'!$B$2:$B$1001,$A4)) | E4: =IF($A4="","",SUMIFS('Hareketler'!$E$2:$E$1001,'Hareketler'!$B$2:$B$1001,$A4)) | F4: =IF($A4="","",D4-E4) | G4: =IF($A4="","",IF(COUNTIF('Hareketler'!$B$2:$B$1001,$A4)=0,"",SUMPRODUCT(MAX(('Hareketler'!$B$2:$B$1001=$A4)*'Hareketler'!$A$2:$A$1001))))
D5: =IF($A5="","",SUMIFS('Hareketler'!$D$2:$D$1001,'Hareketler'!$B$2:$B$1001,$A5)) | E5: =IF($A5="","",SUMIFS('Hareketler'!$E$2:$E$1001,'Hareketler'!$B$2:$B$1001,$A5)) | F5: =IF($A5="","",D5-E5) | G5: =IF($A5="","",IF(COUNTIF('Hareketler'!$B$2:$B$1001,$A5)=0,"",SUMPRODUCT(MAX(('Hareketler'!$B$2:$B$1001=$A5)*'Hareketler'!$A$2:$A$1001))))
D6: =IF($A6="","",SUMIFS('Hareketler'!$D$2:$D$1001,'Hareketler'!$B$2:$B$1001,$A6)) | E6: =IF($A6="","",SUMIFS('Hareketler'!$E$2:$E$1001,'Hareketler'!$B$2:$B$1001,$A6)) | F6: =IF($A6="","",D6-E6) | G6: =IF($A6="","",IF(COUNTIF('Hareketler'!$B$2:$B$1001,$A6)=0,"",SUMPRODUCT(MAX(('Hareketler'!$B$2:$B$1001=$A6)*'Hareketler'!$A$2:$A$1001))))
D7: =IF($A7="","",SUMIFS('Hareketler'!$D$2:$D$1001,'Hareketler'!$B$2:$B$1001,$A7)) | E7: =IF($A7="","",SUMIFS('Hareketler'!$E$2:$E$1001,'Hareketler'!$B$2:$B$1001,$A7)) | F7: =IF($A7="","",D7-E7) | G7: =IF($A7="","",IF(COUNTIF('Hareketler'!$B$2:$B$1001,$A7)=0,"",SUMPRODUCT(MAX(('Hareketler'!$B$2:$B$1001=$A7)*'Hareketler'!$A$2:$A$1001))))
D8: =IF($A8="","",SUMIFS('Hareketler'!$D$2:$D$1001,'Hareketler'!$B$2:$B$1001,$A8)) | E8: =IF($A8="","",SUMIFS('Hareketler'!$E$2:$E$1001,'Hareketler'!$B$2:$B$1001,$A8)) | F8: =IF($A8="","",D8-E8) | G8: =IF($A8="","",IF(COUNTIF('Hareketler'!$B$2:$B$1001,$A8)=0,"",SUMPRODUCT(MAX(('Hareketler'!$B$2:$B$1001=$A8)*'Hareketler'!$A$2:$A$1001))))
D9: =IF($A9="","",SUMIFS('Hareketler'!$D$2:$D$1001,'Hareketler'!$B$2:$B$1001,$A9)) | E9: =IF($A9="","",SUMIFS('Hareketler'!$E$2:$E$1001,'Hareketler'!$B$2:$B$1001,$A9)) | F9: =IF($A9="","",D9-E9) | G9: =IF($A9="","",IF(COUNTIF('Hareketler'!$B$2:$B$1001,$A9)=0,"",SUMPRODUCT(MAX(('Hareketler'!$B$2:$B$1001=$A9)*'Hareketler'!$A$2:$A$1001))))
D10: =IF($A10="","",SUMIFS('Hareketler'!$D$2:$D$1001,'Hareketler'!$B$2:$B$1001,$A10)) | E10: =IF($A10="","",SUMIFS('Hareketler'!$E$2:$E$1001,'Hareketler'!$B$2:$B$1001,$A10)) | F10: =IF($A10="","",D10-E10) | G10: =IF($A10="","",IF(COUNTIF('Hareketler'!$B$2:$B$1001,$A10)=0,"",SUMPRODUCT(MAX(('Hareketler'!$B$2:$B$1001=$A10)*'Hareketler'!$A$2:$A$1001))))
D11: =IF($A11="","",SUMIFS('Hareketler'!$D$2:$D$1001,'Hareketler'!$B$2:$B$1001,$A11)) | E11: =IF($A11="","",SUMIFS('Hareketler'!$E$2:$E$1001,'Hareketler'!$B$2:$B$1001,$A11)) | F11: =IF($A11="","",D11-E11) | G11: =IF($A11="","",IF(COUNTIF('Hareketler'!$B$2:$B$1001,$A11)=0,"",SUMPRODUCT(MAX(('Hareketler'!$B$2:$B$1001=$A11)*'Hareketler'!$A$2:$A$1001))))
D12: =IF($A12="","",SUMIFS('Hareketler'!$D$2:$D$1001,'Hareketler'!$B$2:$B$1001,$A12)) | E12: =IF($A12="","",SUMIFS('Hareketler'!$E$2:$E$1001,'Hareketler'!$B$2:$B$1001,$A12)) | F12: =IF($A12="","",D12-E12) | G12: =IF($A12="","",IF(COUNTIF('Hareketler'!$B$2:$B$1001,$A12)=0,"",SUMPRODUCT(MAX(('Hareketler'!$B$2:$B$1001=$A12)*'Hareketler'!$A$2:$A$1001))))
D13: =IF($A13="","",SUMIFS('Hareketler'!$D$2:$D$1001,'Hareketler'!$B$2:$B$1001,$A13)) | E13: =IF($A13="","",SUMIFS('Hareketler'!$E$2:$E$1001,'Hareketler'!$B$2:$B$1001,$A13)) | F13: =IF($A13="","",D13-E13) | G13: =IF($A13="","",IF(COUNTIF('Hareketler'!$B$2:$B$1001,$A13)=0,"",SUMPRODUCT(MAX(('Hareketler'!$B$2:$B$1001=$A13)*'Hareketler'!$A$2:$A$1001))))
D14: =IF($A14="","",SUMIFS('Hareketler'!$D$2:$D$1001,'Hareketler'!$B$2:$B$1001,$A14)) | E14: =IF($A14="","",SUMIFS('Hareketler'!$E$2:$E$1001,'Hareketler'!$B$2:$B$1001,$A14)) | F14: =IF($A14="","",D14-E14) | G14: =IF($A14="","",IF(COUNTIF('Hareketler'!$B$2:$B$1001,$A14)=0,"",SUMPRODUCT(MAX(('Hareketler'!$B$2:$B$1001=$A14)*'Hareketler'!$A$2:$A$1001))))
... D201: =IF($A201="","",SUMIFS('Hareketler'!$D$2:$D$1001,'Hareketler'!$B$2:$B$1001,$A201)) | E201: =IF($A201="","",SUMIFS('Hareketler'!$E$2:$E$1001,'Hareketler'!$B$2:$B$1001,$A201)) | F201: =IF($A201="","",D201-E201) | G201: =IF($A201="","",IF(COUNTIF('Hareketler'!$B$2:$B$1001,$A201)=0,"",SUMPRODUCT(MAX(('Hareketler'!$B$2:$B$1001=$A201)*'Hareketler'!$A$2:$A$1001))))

Sheet Hareketler
A1: Tarih | B1: Müşteri | C1: Açıklama | D1: Borç (veresiye satış) | E1: Ödeme (tahsilat) | F1: Müşterinin bakiyesi | G1: Ekstre sırası (yardımcı)
A2: 46296 | B2: Ahmet Yılmaz (örnek) | C2: Ekmek, süt, deterjan | D2: 350 | F2: =IF($B2="","",SUMIFS($D$2:$D2,$B$2:$B2,$B2)-SUMIFS($E$2:$E2,$B$2:$B2,$B2)) | G2: =IF(AND($B2<>"",$B2='Ekstre'!$B$3),COUNTIF($B$2:$B2,'Ekstre'!$B$3),"")
A3: 46300 | B3: Ahmet Yılmaz (örnek) | C3: Sigara, su | D3: 180 | F3: =IF($B3="","",SUMIFS($D$2:$D3,$B$2:$B3,$B3)-SUMIFS($E$2:$E3,$B$2:$B3,$B3)) | G3: =IF(AND($B3<>"",$B3='Ekstre'!$B$3),COUNTIF($B$2:$B3,'Ekstre'!$B$3),"")
A4: 46305 | B4: Ahmet Yılmaz (örnek) | C4: Nakit, kısmi ödeme | E4: 300 | F4: =IF($B4="","",SUMIFS($D$2:$D4,$B$2:$B4,$B4)-SUMIFS($E$2:$E4,$B$2:$B4,$B4)) | G4: =IF(AND($B4<>"",$B4='Ekstre'!$B$3),COUNTIF($B$2:$B4,'Ekstre'!$B$3),"")
F5: =IF($B5="","",SUMIFS($D$2:$D5,$B$2:$B5,$B5)-SUMIFS($E$2:$E5,$B$2:$B5,$B5)) | G5: =IF(AND($B5<>"",$B5='Ekstre'!$B$3),COUNTIF($B$2:$B5,'Ekstre'!$B$3),"")
F6: =IF($B6="","",SUMIFS($D$2:$D6,$B$2:$B6,$B6)-SUMIFS($E$2:$E6,$B$2:$B6,$B6)) | G6: =IF(AND($B6<>"",$B6='Ekstre'!$B$3),COUNTIF($B$2:$B6,'Ekstre'!$B$3),"")
F7: =IF($B7="","",SUMIFS($D$2:$D7,$B$2:$B7,$B7)-SUMIFS($E$2:$E7,$B$2:$B7,$B7)) | G7: =IF(AND($B7<>"",$B7='Ekstre'!$B$3),COUNTIF($B$2:$B7,'Ekstre'!$B$3),"")
F8: =IF($B8="","",SUMIFS($D$2:$D8,$B$2:$B8,$B8)-SUMIFS($E$2:$E8,$B$2:$B8,$B8)) | G8: =IF(AND($B8<>"",$B8='Ekstre'!$B$3),COUNTIF($B$2:$B8,'Ekstre'!$B$3),"")
F9: =IF($B9="","",SUMIFS($D$2:$D9,$B$2:$B9,$B9)-SUMIFS($E$2:$E9,$B$2:$B9,$B9)) | G9: =IF(AND($B9<>"",$B9='Ekstre'!$B$3),COUNTIF($B$2:$B9,'Ekstre'!$B$3),"")
F10: =IF($B10="","",SUMIFS($D$2:$D10,$B$2:$B10,$B10)-SUMIFS($E$2:$E10,$B$2:$B10,$B10)) | G10: =IF(AND($B10<>"",$B10='Ekstre'!$B$3),COUNTIF($B$2:$B10,'Ekstre'!$B$3),"")
F11: =IF($B11="","",SUMIFS($D$2:$D11,$B$2:$B11,$B11)-SUMIFS($E$2:$E11,$B$2:$B11,$B11)) | G11: =IF(AND($B11<>"",$B11='Ekstre'!$B$3),COUNTIF($B$2:$B11,'Ekstre'!$B$3),"")
F12: =IF($B12="","",SUMIFS($D$2:$D12,$B$2:$B12,$B12)-SUMIFS($E$2:$E12,$B$2:$B12,$B12)) | G12: =IF(AND($B12<>"",$B12='Ekstre'!$B$3),COUNTIF($B$2:$B12,'Ekstre'!$B$3),"")
F13: =IF($B13="","",SUMIFS($D$2:$D13,$B$2:$B13,$B13)-SUMIFS($E$2:$E13,$B$2:$B13,$B13)) | G13: =IF(AND($B13<>"",$B13='Ekstre'!$B$3),COUNTIF($B$2:$B13,'Ekstre'!$B$3),"")
F14: =IF($B14="","",SUMIFS($D$2:$D14,$B$2:$B14,$B14)-SUMIFS($E$2:$E14,$B$2:$B14,$B14)) | G14: =IF(AND($B14<>"",$B14='Ekstre'!$B$3),COUNTIF($B$2:$B14,'Ekstre'!$B$3),"")
F15: =IF($B15="","",SUMIFS($D$2:$D15,$B$2:$B15,$B15)-SUMIFS($E$2:$E15,$B$2:$B15,$B15)) | G15: =IF(AND($B15<>"",$B15='Ekstre'!$B$3),COUNTIF($B$2:$B15,'Ekstre'!$B$3),"")
F16: =IF($B16="","",SUMIFS($D$2:$D16,$B$2:$B16,$B16)-SUMIFS($E$2:$E16,$B$2:$B16,$B16)) | G16: =IF(AND($B16<>"",$B16='Ekstre'!$B$3),COUNTIF($B$2:$B16,'Ekstre'!$B$3),"")
... F1001: =IF($B1001="","",SUMIFS($D$2:$D1001,$B$2:$B1001,$B1001)-SUMIFS($E$2:$E1001,$B$2:$B1001,$B1001)) | G1001: =IF(AND($B1001<>"",$B1001='Ekstre'!$B$3),COUNTIF($B$2:$B1001,'Ekstre'!$B$3),"")

Sheet Ekstre
A1: Müşteri ekstresi
A3: Müşteri seçin: | B3: Ahmet Yılmaz (örnek)
A4: Telefon | B4: =IFERROR(INDEX('Müşteriler'!$B$2:$B$201,MATCH($B$3,'Müşteriler'!$A$2:$A$201,0))&"","") | D4: Tüm müşterilerde açık alacak | E4: =SUM('Müşteriler'!$F$2:$F$201)
A5: Toplam borç | B5: =IFERROR(INDEX('Müşteriler'!$D$2:$D$201,MATCH($B$3,'Müşteriler'!$A$2:$A$201,0)),0) | D5: Borcu olan müşteri sayısı | E5: =COUNTIF('Müşteriler'!$F$2:$F$201,">0")
A6: Toplam ödeme | B6: =IFERROR(INDEX('Müşteriler'!$E$2:$E$201,MATCH($B$3,'Müşteriler'!$A$2:$A$201,0)),0)
A7: Güncel bakiye | B7: =IFERROR(INDEX('Müşteriler'!$F$2:$F$201,MATCH($B$3,'Müşteriler'!$A$2:$A$201,0)),0)
A9: Tarih | B9: Açıklama | D9: Borç | E9: Ödeme | F9: Bakiye
A10: =IFERROR(INDEX('Hareketler'!$A$2:$A$1001,MATCH(1,'Hareketler'!$G$2:$G$1001,0)),"") | B10: =IFERROR(INDEX('Hareketler'!$C$2:$C$1001,MATCH(1,'Hareketler'!$G$2:$G$1001,0)),"") | D10: =IFERROR(INDEX('Hareketler'!$D$2:$D$1001,MATCH(1,'Hareketler'!$G$2:$G$1001,0)),"") | E10: =IFERROR(INDEX('Hareketler'!$E$2:$E$1001,MATCH(1,'Hareketler'!$G$2:$G$1001,0)),"") | F10: =IFERROR(INDEX('Hareketler'!$F$2:$F$1001,MATCH(1,'Hareketler'!$G$2:$G$1001,0)),"")
A11: =IFERROR(INDEX('Hareketler'!$A$2:$A$1001,MATCH(2,'Hareketler'!$G$2:$G$1001,0)),"") | B11: =IFERROR(INDEX('Hareketler'!$C$2:$C$1001,MATCH(2,'Hareketler'!$G$2:$G$1001,0)),"") | D11: =IFERROR(INDEX('Hareketler'!$D$2:$D$1001,MATCH(2,'Hareketler'!$G$2:$G$1001,0)),"") | E11: =IFERROR(INDEX('Hareketler'!$E$2:$E$1001,MATCH(2,'Hareketler'!$G$2:$G$1001,0)),"") | F11: =IFERROR(INDEX('Hareketler'!$F$2:$F$1001,MATCH(2,'Hareketler'!$G$2:$G$1001,0)),"")
A12: =IFERROR(INDEX('Hareketler'!$A$2:$A$1001,MATCH(3,'Hareketler'!$G$2:$G$1001,0)),"") | B12: =IFERROR(INDEX('Hareketler'!$C$2:$C$1001,MATCH(3,'Hareketler'!$G$2:$G$1001,0)),"") | D12: =IFERROR(INDEX('Hareketler'!$D$2:$D$1001,MATCH(3,'Hareketler'!$G$2:$G$1001,0)),"") | E12: =IFERROR(INDEX('Hareketler'!$E$2:$E$1001,MATCH(3,'Hareketler'!$G$2:$G$1001,0)),"") | F12: =IFERROR(INDEX('Hareketler'!$F$2:$F$1001,MATCH(3,'Hareketler'!$G$2:$G$1001,0)),"")
A13: =IFERROR(INDEX('Hareketler'!$A$2:$A$1001,MATCH(4,'Hareketler'!$G$2:$G$1001,0)),"") | B13: =IFERROR(INDEX('Hareketler'!$C$2:$C$1001,MATCH(4,'Hareketler'!$G$2:$G$1001,0)),"") | D13: =IFERROR(INDEX('Hareketler'!$D$2:$D$1001,MATCH(4,'Hareketler'!$G$2:$G$1001,0)),"") | E13: =IFERROR(INDEX('Hareketler'!$E$2:$E$1001,MATCH(4,'Hareketler'!$G$2:$G$1001,0)),"") | F13: =IFERROR(INDEX('Hareketler'!$F$2:$F$1001,MATCH(4,'Hareketler'!$G$2:$G$1001,0)),"")
A14: =IFERROR(INDEX('Hareketler'!$A$2:$A$1001,MATCH(5,'Hareketler'!$G$2:$G$1001,0)),"") | B14: =IFERROR(INDEX('Hareketler'!$C$2:$C$1001,MATCH(5,'Hareketler'!$G$2:$G$1001,0)),"") | D14: =IFERROR(INDEX('Hareketler'!$D$2:$D$1001,MATCH(5,'Hareketler'!$G$2:$G$1001,0)),"") | E14: =IFERROR(INDEX('Hareketler'!$E$2:$E$1001,MATCH(5,'Hareketler'!$G$2:$G$1001,0)),"") | F14: =IFERROR(INDEX('Hareketler'!$F$2:$F$1001,MATCH(5,'Hareketler'!$G$2:$G$1001,0)),"")
A15: =IFERROR(INDEX('Hareketler'!$A$2:$A$1001,MATCH(6,'Hareketler'!$G$2:$G$1001,0)),"") | B15: =IFERROR(INDEX('Hareketler'!$C$2:$C$1001,MATCH(6,'Hareketler'!$G$2:$G$1001,0)),"") | D15: =IFERROR(INDEX('Hareketler'!$D$2:$D$1001,MATCH(6,'Hareketler'!$G$2:$G$1001,0)),"") | E15: =IFERROR(INDEX('Hareketler'!$E$2:$E$1001,MATCH(6,'Hareketler'!$G$2:$G$1001,0)),"") | F15: =IFERROR(INDEX('Hareketler'!$F$2:$F$1001,MATCH(6,'Hareketler'!$G$2:$G$1001,0)),"")
A16: =IFERROR(INDEX('Hareketler'!$A$2:$A$1001,MATCH(7,'Hareketler'!$G$2:$G$1001,0)),"") | B16: =IFERROR(INDEX('Hareketler'!$C$2:$C$1001,MATCH(7,'Hareketler'!$G$2:$G$1001,0)),"") | D16: =IFERROR(INDEX('Hareketler'!$D$2:$D$1001,MATCH(7,'Hareketler'!$G$2:$G$1001,0)),"") | E16: =IFERROR(INDEX('Hareketler'!$E$2:$E$1001,MATCH(7,'Hareketler'!$G$2:$G$1001,0)),"") | F16: =IFERROR(INDEX('Hareketler'!$F$2:$F$1001,MATCH(7,'Hareketler'!$G$2:$G$1001,0)),"")
A17: =IFERROR(INDEX('Hareketler'!$A$2:$A$1001,MATCH(8,'Hareketler'!$G$2:$G$1001,0)),"") | B17: =IFERROR(INDEX('Hareketler'!$C$2:$C$1001,MATCH(8,'Hareketler'!$G$2:$G$1001,0)),"") | D17: =IFERROR(INDEX('Hareketler'!$D$2:$D$1001,MATCH(8,'Hareketler'!$G$2:$G$1001,0)),"") | E17: =IFERROR(INDEX('Hareketler'!$E$2:$E$1001,MATCH(8,'Hareketler'!$G$2:$G$1001,0)),"") | F17: =IFERROR(INDEX('Hareketler'!$F$2:$F$1001,MATCH(8,'Hareketler'!$G$2:$G$1001,0)),"")
A18: =IFERROR(INDEX('Hareketler'!$A$2:$A$1001,MATCH(9,'Hareketler'!$G$2:$G$1001,0)),"") | B18: =IFERROR(INDEX('Hareketler'!$C$2:$C$1001,MATCH(9,'Hareketler'!$G$2:$G$1001,0)),"") | D18: =IFERROR(INDEX('Hareketler'!$D$2:$D$1001,MATCH(9,'Hareketler'!$G$2:$G$1001,0)),"") | E18: =IFERROR(INDEX('Hareketler'!$E$2:$E$1001,MATCH(9,'Hareketler'!$G$2:$G$1001,0)),"") | F18: =IFERROR(INDEX('Hareketler'!$F$2:$F$1001,MATCH(9,'Hareketler'!$G$2:$G$1001,0)),"")
A19: =IFERROR(INDEX('Hareketler'!$A$2:$A$1001,MATCH(10,'Hareketler'!$G$2:$G$1001,0)),"") | B19: =IFERROR(INDEX('Hareketler'!$C$2:$C$1001,MATCH(10,'Hareketler'!$G$2:$G$1001,0)),"") | D19: =IFERROR(INDEX('Hareketler'!$D$2:$D$1001,MATCH(10,'Hareketler'!$G$2:$G$1001,0)),"") | E19: =IFERROR(INDEX('Hareketler'!$E$2:$E$1001,MATCH(10,'Hareketler'!$G$2:$G$1001,0)),"") | F19: =IFERROR(INDEX('Hareketler'!$F$2:$F$1001,MATCH(10,'Hareketler'!$G$2:$G$1001,0)),"")
A20: =IFERROR(INDEX('Hareketler'!$A$2:$A$1001,MATCH(11,'Hareketler'!$G$2:$G$1001,0)),"") | B20: =IFERROR(INDEX('Hareketler'!$C$2:$C$1001,MATCH(11,'Hareketler'!$G$2:$G$1001,0)),"") | D20: =IFERROR(INDEX('Hareketler'!$D$2:$D$1001,MATCH(11,'Hareketler'!$G$2:$G$1001,0)),"") | E20: =IFERROR(INDEX('Hareketler'!$E$2:$E$1001,MATCH(11,'Hareketler'!$G$2:$G$1001,0)),"") | F20: =IFERROR(INDEX('Hareketler'!$F$2:$F$1001,MATCH(11,'Hareketler'!$G$2:$G$1001,0)),"")
A21: =IFERROR(INDEX('Hareketler'!$A$2:$A$1001,MATCH(12,'Hareketler'!$G$2:$G$1001,0)),"") | B21: =IFERROR(INDEX('Hareketler'!$C$2:$C$1001,MATCH(12,'Hareketler'!$G$2:$G$1001,0)),"") | D21: =IFERROR(INDEX('Hareketler'!$D$2:$D$1001,MATCH(12,'Hareketler'!$G$2:$G$1001,0)),"") | E21: =IFERROR(INDEX('Hareketler'!$E$2:$E$1001,MATCH(12,'Hareketler'!$G$2:$G$1001,0)),"") | F21: =IFERROR(INDEX('Hareketler'!$F$2:$F$1001,MATCH(12,'Hareketler'!$G$2:$G$1001,0)),"")
A22: =IFERROR(INDEX('Hareketler'!$A$2:$A$1001,MATCH(13,'Hareketler'!$G$2:$G$1001,0)),"") | B22: =IFERROR(INDEX('Hareketler'!$C$2:$C$1001,MATCH(13,'Hareketler'!$G$2:$G$1001,0)),"") | D22: =IFERROR(INDEX('Hareketler'!$D$2:$D$1001,MATCH(13,'Hareketler'!$G$2:$G$1001,0)),"") | E22: =IFERROR(INDEX('Hareketler'!$E$2:$E$1001,MATCH(13,'Hareketler'!$G$2:$G$1001,0)),"") | F22: =IFERROR(INDEX('Hareketler'!$F$2:$F$1001,MATCH(13,'Hareketler'!$G$2:$G$1001,0)),"")
A23: =IFERROR(INDEX('Hareketler'!$A$2:$A$1001,MATCH(14,'Hareketler'!$G$2:$G$1001,0)),"") | B23: =IFERROR(INDEX('Hareketler'!$C$2:$C$1001,MATCH(14,'Hareketler'!$G$2:$G$1001,0)),"") | D23: =IFERROR(INDEX('Hareketler'!$D$2:$D$1001,MATCH(14,'Hareketler'!$G$2:$G$1001,0)),"") | E23: =IFERROR(INDEX('Hareketler'!$E$2:$E$1001,MATCH(14,'Hareketler'!$G$2:$G$1001,0)),"") | F23: =IFERROR(INDEX('Hareketler'!$F$2:$F$1001,MATCH(14,'Hareketler'!$G$2:$G$1001,0)),"")
A24: =IFERROR(INDEX('Hareketler'!$A$2:$A$1001,MATCH(15,'Hareketler'!$G$2:$G$1001,0)),"") | B24: =IFERROR(INDEX('Hareketler'!$C$2:$C$1001,MATCH(15,'Hareketler'!$G$2:$G$1001,0)),"") | D24: =IFERROR(INDEX('Hareketler'!$D$2:$D$1001,MATCH(15,'Hareketler'!$G$2:$G$1001,0)),"") | E24: =IFERROR(INDEX('Hareketler'!$E$2:$E$1001,MATCH(15,'Hareketler'!$G$2:$G$1001,0)),"") | F24: =IFERROR(INDEX('Hareketler'!$F$2:$F$1001,MATCH(15,'Hareketler'!$G$2:$G$1001,0)),"")
A25: =IFERROR(INDEX('Hareketler'!$A$2:$A$1001,MATCH(16,'Hareketler'!$G$2:$G$1001,0)),"") | B25: =IFERROR(INDEX('Hareketler'!$C$2:$C$1001,MATCH(16,'Hareketler'!$G$2:$G$1001,0)),"") | D25: =IFERROR(INDEX('Hareketler'!$D$2:$D$1001,MATCH(16,'Hareketler'!$G$2:$G$1001,0)),"") | E25: =IFERROR(INDEX('Hareketler'!$E$2:$E$1001,MATCH(16,'Hareketler'!$G$2:$G$1001,0)),"") | F25: =IFERROR(INDEX('Hareketler'!$F$2:$F$1001,MATCH(16,'Hareketler'!$G$2:$G$1001,0)),"")
A26: =IFERROR(INDEX('Hareketler'!$A$2:$A$1001,MATCH(17,'Hareketler'!$G$2:$G$1001,0)),"") | B26: =IFERROR(INDEX('Hareketler'!$C$2:$C$1001,MATCH(17,'Hareketler'!$G$2:$G$1001,0)),"") | D26: =IFERROR(INDEX('Hareketler'!$D$2:$D$1001,MATCH(17,'Hareketler'!$G$2:$G$1001,0)),"") | E26: =IFERROR(INDEX('Hareketler'!$E$2:$E$1001,MATCH(17,'Hareketler'!$G$2:$G$1001,0)),"") | F26: =IFERROR(INDEX('Hareketler'!$F$2:$F$1001,MATCH(17,'Hareketler'!$G$2:$G$1001,0)),"")
A27: =IFERROR(INDEX('Hareketler'!$A$2:$A$1001,MATCH(18,'Hareketler'!$G$2:$G$1001,0)),"") | B27: =IFERROR(INDEX('Hareketler'!$C$2:$C$1001,MATCH(18,'Hareketler'!$G$2:$G$1001,0)),"") | D27: =IFERROR(INDEX('Hareketler'!$D$2:$D$1001,MATCH(18,'Hareketler'!$G$2:$G$1001,0)),"") | E27: =IFERROR(INDEX('Hareketler'!$E$2:$E$1001,MATCH(18,'Hareketler'!$G$2:$G$1001,0)),"") | F27: =IFERROR(INDEX('Hareketler'!$F$2:$F$1001,MATCH(18,'Hareketler'!$G$2:$G$1001,0)),"")
A28: =IFERROR(INDEX('Hareketler'!$A$2:$A$1001,MATCH(19,'Hareketler'!$G$2:$G$1001,0)),"") | B28: =IFERROR(INDEX('Hareketler'!$C$2:$C$1001,MATCH(19,'Hareketler'!$G$2:$G$1001,0)),"") | D28: =IFERROR(INDEX('Hareketler'!$D$2:$D$1001,MATCH(19,'Hareketler'!$G$2:$G$1001,0)),"") | E28: =IFERROR(INDEX('Hareketler'!$E$2:$E$1001,MATCH(19,'Hareketler'!$G$2:$G$1001,0)),"") | F28: =IFERROR(INDEX('Hareketler'!$F$2:$F$1001,MATCH(19,'Hareketler'!$G$2:$G$1001,0)),"")
A29: =IFERROR(INDEX('Hareketler'!$A$2:$A$1001,MATCH(20,'Hareketler'!$G$2:$G$1001,0)),"") | B29: =IFERROR(INDEX('Hareketler'!$C$2:$C$1001,MATCH(20,'Hareketler'!$G$2:$G$1001,0)),"") | D29: =IFERROR(INDEX('Hareketler'!$D$2:$D$1001,MATCH(20,'Hareketler'!$G$2:$G$1001,0)),"") | E29: =IFERROR(INDEX('Hareketler'!$E$2:$E$1001,MATCH(20,'Hareketler'!$G$2:$G$1001,0)),"") | F29: =IFERROR(INDEX('Hareketler'!$F$2:$F$1001,MATCH(20,'Hareketler'!$G$2:$G$1001,0)),"")
A30: =IFERROR(INDEX('Hareketler'!$A$2:$A$1001,MATCH(21,'Hareketler'!$G$2:$G$1001,0)),"") | B30: =IFERROR(INDEX('Hareketler'!$C$2:$C$1001,MATCH(21,'Hareketler'!$G$2:$G$1001,0)),"") | D30: =IFERROR(INDEX('Hareketler'!$D$2:$D$1001,MATCH(21,'Hareketler'!$G$2:$G$1001,0)),"") | E30: =IFERROR(INDEX('Hareketler'!$E$2:$E$1001,MATCH(21,'Hareketler'!$G$2:$G$1001,0)),"") | F30: =IFERROR(INDEX('Hareketler'!$F$2:$F$1001,MATCH(21,'Hareketler'!$G$2:$G$1001,0)),"")
A31: =IFERROR(INDEX('Hareketler'!$A$2:$A$1001,MATCH(22,'Hareketler'!$G$2:$G$1001,0)),"") | B31: =IFERROR(INDEX('Hareketler'!$C$2:$C$1001,MATCH(22,'Hareketler'!$G$2:$G$1001,0)),"") | D31: =IFERROR(INDEX('Hareketler'!$D$2:$D$1001,MATCH(22,'Hareketler'!$G$2:$G$1001,0)),"") | E31: =IFERROR(INDEX('Hareketler'!$E$2:$E$1001,MATCH(22,'Hareketler'!$G$2:$G$1001,0)),"") | F31: =IFERROR(INDEX('Hareketler'!$F$2:$F$1001,MATCH(22,'Hareketler'!$G$2:$G$1001,0)),"")
A32: =IFERROR(INDEX('Hareketler'!$A$2:$A$1001,MATCH(23,'Hareketler'!$G$2:$G$1001,0)),"") | B32: =IFERROR(INDEX('Hareketler'!$C$2:$C$1001,MATCH(23,'Hareketler'!$G$2:$G$1001,0)),"") | D32: =IFERROR(INDEX('Hareketler'!$D$2:$D$1001,MATCH(23,'Hareketler'!$G$2:$G$1001,0)),"") | E32: =IFERROR(INDEX('Hareketler'!$E$2:$E$1001,MATCH(23,'Hareketler'!$G$2:$G$1001,0)),"") | F32: =IFERROR(INDEX('Hareketler'!$F$2:$F$1001,MATCH(23,'Hareketler'!$G$2:$G$1001,0)),"")
A33: =IFERROR(INDEX('Hareketler'!$A$2:$A$1001,MATCH(24,'Hareketler'!$G$2:$G$1001,0)),"") | B33: =IFERROR(INDEX('Hareketler'!$C$2:$C$1001,MATCH(24,'Hareketler'!$G$2:$G$1001,0)),"") | D33: =IFERROR(INDEX('Hareketler'!$D$2:$D$1001,MATCH(24,'Hareketler'!$G$2:$G$1001,0)),"") | E33: =IFERROR(INDEX('Hareketler'!$E$2:$E$1001,MATCH(24,'Hareketler'!$G$2:$G$1001,0)),"") | F33: =IFERROR(INDEX('Hareketler'!$F$2:$F$1001,MATCH(24,'Hareketler'!$G$2:$G$1001,0)),"")
A34: =IFERROR(INDEX('Hareketler'!$A$2:$A$1001,MATCH(25,'Hareketler'!$G$2:$G$1001,0)),"") | B34: =IFERROR(INDEX('Hareketler'!$C$2:$C$1001,MATCH(25,'Hareketler'!$G$2:$G$1001,0)),"") | D34: =IFERROR(INDEX('Hareketler'!$D$2:$D$1001,MATCH(25,'Hareketler'!$G$2:$G$1001,0)),"") | E34: =IFERROR(INDEX('Hareketler'!$E$2:$E$1001,MATCH(25,'Hareketler'!$G$2:$G$1001,0)),"") | F34: =IFERROR(INDEX('Hareketler'!$F$2:$F$1001,MATCH(25,'Hareketler'!$G$2:$G$1001,0)),"")
A35: =IFERROR(INDEX('Hareketler'!$A$2:$A$1001,MATCH(26,'Hareketler'!$G$2:$G$1001,0)),"") | B35: =IFERROR(INDEX('Hareketler'!$C$2:$C$1001,MATCH(26,'Hareketler'!$G$2:$G$1001,0)),"") | D35: =IFERROR(INDEX('Hareketler'!$D$2:$D$1001,MATCH(26,'Hareketler'!$G$2:$G$1001,0)),"") | E35: =IFERROR(INDEX('Hareketler'!$E$2:$E$1001,MATCH(26,'Hareketler'!$G$2:$G$1001,0)),"") | F35: =IFERROR(INDEX('Hareketler'!$F$2:$F$1001,MATCH(26,'Hareketler'!$G$2:$G$1001,0)),"")
A36: =IFERROR(INDEX('Hareketler'!$A$2:$A$1001,MATCH(27,'Hareketler'!$G$2:$G$1001,0)),"") | B36: =IFERROR(INDEX('Hareketler'!$C$2:$C$1001,MATCH(27,'Hareketler'!$G$2:$G$1001,0)),"") | D36: =IFERROR(INDEX('Hareketler'!$D$2:$D$1001,MATCH(27,'Hareketler'!$G$2:$G$1001,0)),"") | E36: =IFERROR(INDEX('Hareketler'!$E$2:$E$1001,MATCH(27,'Hareketler'!$G$2:$G$1001,0)),"") | F36: =IFERROR(INDEX('Hareketler'!$F$2:$F$1001,MATCH(27,'Hareketler'!$G$2:$G$1001,0)),"")
A37: =IFERROR(INDEX('Hareketler'!$A$2:$A$1001,MATCH(28,'Hareketler'!$G$2:$G$1001,0)),"") | B37: =IFERROR(INDEX('Hareketler'!$C$2:$C$1001,MATCH(28,'Hareketler'!$G$2:$G$1001,0)),"") | D37: =IFERROR(INDEX('Hareketler'!$D$2:$D$1001,MATCH(28,'Hareketler'!$G$2:$G$1001,0)),"") | E37: =IFERROR(INDEX('Hareketler'!$E$2:$E$1001,MATCH(28,'Hareketler'!$G$2:$G$1001,0)),"") | F37: =IFERROR(INDEX('Hareketler'!$F$2:$F$1001,MATCH(28,'Hareketler'!$G$2:$G$1001,0)),"")
A38: =IFERROR(INDEX('Hareketler'!$A$2:$A$1001,MATCH(29,'Hareketler'!$G$2:$G$1001,0)),"") | B38: =IFERROR(INDEX('Hareketler'!$C$2:$C$1001,MATCH(29,'Hareketler'!$G$2:$G$1001,0)),"") | D38: =IFERROR(INDEX('Hareketler'!$D$2:$D$1001,MATCH(29,'Hareketler'!$G$2:$G$1001,0)),"") | E38: =IFERROR(INDEX('Hareketler'!$E$2:$E$1001,MATCH(29,'Hareketler'!$G$2:$G$1001,0)),"") | F38: =IFERROR(INDEX('Hareketler'!$F$2:$F$1001,MATCH(29,'Hareketler'!$G$2:$G$1001,0)),"")
A39: =IFERROR(INDEX('Hareketler'!$A$2:$A$1001,MATCH(30,'Hareketler'!$G$2:$G$1001,0)),"") | B39: =IFERROR(INDEX('Hareketler'!$C$2:$C$1001,MATCH(30,'Hareketler'!$G$2:$G$1001,0)),"") | D39: =IFERROR(INDEX('Hareketler'!$D$2:$D$1001,MATCH(30,'Hareketler'!$G$2:$G$1001,0)),"") | E39: =IFERROR(INDEX('Hareketler'!$E$2:$E$1001,MATCH(30,'Hareketler'!$G$2:$G$1001,0)),"") | F39: =IFERROR(INDEX('Hareketler'!$F$2:$F$1001,MATCH(30,'Hareketler'!$G$2:$G$1001,0)),"")
A40: =IFERROR(INDEX('Hareketler'!$A$2:$A$1001,MATCH(31,'Hareketler'!$G$2:$G$1001,0)),"") | B40: =IFERROR(INDEX('Hareketler'!$C$2:$C$1001,MATCH(31,'Hareketler'!$G$2:$G$1001,0)),"") | D40: =IFERROR(INDEX('Hareketler'!$D$2:$D$1001,MATCH(31,'Hareketler'!$G$2:$G$1001,0)),"") | E40: =IFERROR(INDEX('Hareketler'!$E$2:$E$1001,MATCH(31,'Hareketler'!$G$2:$G$1001,0)),"") | F40: =IFERROR(INDEX('Hareketler'!$F$2:$F$1001,MATCH(31,'Hareketler'!$G$2:$G$1001,0)),"")
A41: =IFERROR(INDEX('Hareketler'!$A$2:$A$1001,MATCH(32,'Hareketler'!$G$2:$G$1001,0)),"") | B41: =IFERROR(INDEX('Hareketler'!$C$2:$C$1001,MATCH(32,'Hareketler'!$G$2:$G$1001,0)),"") | D41: =IFERROR(INDEX('Hareketler'!$D$2:$D$1001,MATCH(32,'Hareketler'!$G$2:$G$1001,0)),"") | E41: =IFERROR(INDEX('Hareketler'!$E$2:$E$1001,MATCH(32,'Hareketler'!$G$2:$G$1001,0)),"") | F41: =IFERROR(INDEX('Hareketler'!$F$2:$F$1001,MATCH(32,'Hareketler'!$G$2:$G$1001,0)),"")
A42: =IFERROR(INDEX('Hareketler'!$A$2:$A$1001,MATCH(33,'Hareketler'!$G$2:$G$1001,0)),"") | B42: =IFERROR(INDEX('Hareketler'!$C$2:$C$1001,MATCH(33,'Hareketler'!$G$2:$G$1001,0)),"") | D42: =IFERROR(INDEX('Hareketler'!$D$2:$D$1001,MATCH(33,'Hareketler'!$G$2:$G$1001,0)),"") | E42: =IFERROR(INDEX('Hareketler'!$E$2:$E$1001,MATCH(33,'Hareketler'!$G$2:$G$1001,0)),"") | F42: =IFERROR(INDEX('Hareketler'!$F$2:$F$1001,MATCH(33,'Hareketler'!$G$2:$G$1001,0)),"")
...
